BEGIN:VCALENDAR
VERSION:2.0
PRODID:-//Διαγνωστική Μαστογραφία - ECPv5.12.1//NONSGML v1.0//EN
CALSCALE:GREGORIAN
METHOD:PUBLISH
X-WR-CALNAME:Διαγνωστική Μαστογραφία
X-ORIGINAL-URL:https://mammography.gr
X-WR-CALDESC:Διαγνωστική Μαστογραφία - Εκδηλώσεις
REFRESH-INTERVAL;VALUE=DURATION:PT1H
X-Robots-Tag:noindex
X-PUBLISHED-TTL:PT1H
BEGIN:VTIMEZONE
TZID:Europe/Athens
BEGIN:DAYLIGHT
TZOFFSETFROM:+0200
TZOFFSETTO:+0300
TZNAME:EEST
DTSTART:20200329T010000
END:DAYLIGHT
BEGIN:STANDARD
TZOFFSETFROM:+0300
TZOFFSETTO:+0200
TZNAME:EET
DTSTART:20201025T010000
END:STANDARD
END:VTIMEZONE
BEGIN:VEVENT
DTSTART;TZID=Europe/Athens:20200607T170000
DTEND;TZID=Europe/Athens:20200607T180000
DTSTAMP:20260419T191558
CREATED:20201218T130913Z
LAST-MODIFIED:20201218T130914Z
UID:5692-1591549200-1591552800@mammography.gr
SUMMARY:Elevating Personalized Breast Care
DESCRIPTION:Ομιλία της Δρ. Αθηνάς Βούρτση σε διαδικτυακή διάλεξη (webinar) με θέμα: \n\n\n\nSuccessful Implementation Strategies for Automated Breast Ultrasound \n\n\n\nΧρόνος: 7 Ιουνίου 2020 Ώρα (GMT): 14:00 (ώρα Ελλάδας 17.00) \n\n\n\nΤόπος: Διαδικτυακά \n\n\n\nELEVATING PERSONALIZED BREAST CARE \n\n\n\n\n\n\n\n\n\n\n0000
URL:https://mammography.gr/mammog-event/elevating-personalized-breast-care/
CATEGORIES:Διαδυκτιακό
END:VEVENT
END:VCALENDAR